BEGIN:VCALENDAR
VERSION:2.0
PRODID:-//Settlers Tavern - ECPv6.15.18//NONSGML v1.0//EN
CALSCALE:GREGORIAN
METHOD:PUBLISH
X-WR-CALNAME:Settlers Tavern
X-ORIGINAL-URL:https://www.settlerstavern.com
X-WR-CALDESC:Events for Settlers Tavern
REFRESH-INTERVAL;VALUE=DURATION:PT1H
X-Robots-Tag:noindex
X-PUBLISHED-TTL:PT1H
BEGIN:VTIMEZONE
TZID:Australia/Perth
BEGIN:STANDARD
TZOFFSETFROM:+0800
TZOFFSETTO:+0800
TZNAME:AWST
DTSTART:20240101T000000
END:STANDARD
END:VTIMEZONE
BEGIN:VEVENT
DTSTART;TZID=Australia/Perth:20250816T210000
DTEND;TZID=Australia/Perth:20250816T233000
DTSTAMP:20260423T070241
CREATED:20250620T070550Z
LAST-MODIFIED:20250630T130404Z
UID:10000983-1755378000-1755387000@www.settlerstavern.com
SUMMARY:EXP's Led Zeppelin Tribute
DESCRIPTION:EXP and Settlers Tavern present a Led Zeppelin tribute at Settlers Tavern\, Margaret River / Wooditjup WA\, on Saturday night 16th August! \nLed Zeppelin were one of the most influential rock supergroups to emerge in the late 60s\, and into the 70s. EXP pay tribute to this iconic act with their  Led Zeppelin tribute. \nSet one will warm up with beautiful Zeppelin acoustic classics\, then the masterpiece Led Zeppelin IV in its entirety\, including classics such as Black Dog\, Rock and Roll\, and the iconic Stairway to Heaven. \nSet two will be rocking iconic Zeppelin songs like Babe I’m Gonna Leave Away\, Dazed and Confused\, Immigrant Song\, Ramble On\, Heartbreaker\, and Kashmir! \nEXP are Great Southern WA’s premier exponents of psychedelic blues rock. EXP debuted in 2019\, with tribute sets to Cream\, Jimi Hendrix and Led Zeppelin. Over the next two years the band developed these sets into their own full shows. In 2021\, EXP launched their Led Zeppelin IV tribute\, 50 years after the epic album was released. \nEXP will feature:\nPaul Meyers – drums\nRoss Dwyer – guitar\nRusty Lynch – vocals\nDavid Rastrick – bass\, vocals\, mandolin\, keyboard\, flugelhorn\, harmonica… \nGet ready for a great night on Saturday 16th of August\, as you experience EXP’s Led Zeppelin tribute at Settlers Tavern\, Margaret River / Wooditjup WA.
URL:https://www.settlerstavern.com/event/exps-led-zeppelin-tribute-4/
LOCATION:Settlers Tavern\, 114 Bussell Hwy\, Margaret River\, WA\, 6285\, Australia
CATEGORIES:Live Music,Live Music Australia,Rock'n'Roll,Tribute
ATTACH;FMTTYPE=image/jpeg:https://www.settlerstavern.com/wp-content/uploads/2024/10/445235646_777179057730516_4689253320103488722_n-e1750403124843.jpg
GEO:-33.9498;115.0736
X-APPLE-STRUCTURED-LOCATION;VALUE=URI;X-ADDRESS=Settlers Tavern 114 Bussell Hwy Margaret River WA 6285 Australia;X-APPLE-RADIUS=500;X-TITLE=114 Bussell Hwy:geo:115.0736,-33.9498
END:VEVENT
END:VCALENDAR