BEGIN:VCALENDAR
VERSION:2.0
PRODID:-//Settlers Tavern - ECPv6.15.18//NONSGML v1.0//EN
CALSCALE:GREGORIAN
METHOD:PUBLISH
X-ORIGINAL-URL:https://www.settlerstavern.com
X-WR-CALDESC:Events for Settlers Tavern
REFRESH-INTERVAL;VALUE=DURATION:PT1H
X-Robots-Tag:noindex
X-PUBLISHED-TTL:PT1H
BEGIN:VTIMEZONE
TZID:Australia/Perth
BEGIN:STANDARD
TZOFFSETFROM:+0800
TZOFFSETTO:+0800
TZNAME:AWST
DTSTART:20240101T000000
END:STANDARD
END:VTIMEZONE
BEGIN:VEVENT
DTSTART;TZID=Australia/Perth:20250712T210000
DTEND;TZID=Australia/Perth:20250712T233000
DTSTAMP:20260423T084457
CREATED:20250526T053829Z
LAST-MODIFIED:20250709T055404Z
UID:10000972-1752354000-1752363000@www.settlerstavern.com
SUMMARY:MUFASSA & THE SUMMER HAZE
DESCRIPTION:Sun soaked\, salty reggae frothers MUFASSA & The Summer Haze always bring the lush summer vibes with a smile – Nkechi Anele\, Triple J.\n\nMixing traditional reggae influences with classic 70’s surf tones\, they create vibrations that breed positivity\, connection and empowerment. These guys are the perfect pairing for your weekend sundowner dance party.
URL:https://www.settlerstavern.com/event/mufassa-the-pride/
LOCATION:Settlers Tavern\, 114 Bussell Hwy\, Margaret River\, WA\, 6285\, Australia
CATEGORIES:Live Music,Live Music Australia,Reggae
ATTACH;FMTTYPE=image/png:https://www.settlerstavern.com/wp-content/uploads/2025/05/Screenshot-2025-05-26-at-1.37.15 PM.png
GEO:-33.9498;115.0736
X-APPLE-STRUCTURED-LOCATION;VALUE=URI;X-ADDRESS=Settlers Tavern 114 Bussell Hwy Margaret River WA 6285 Australia;X-APPLE-RADIUS=500;X-TITLE=114 Bussell Hwy:geo:115.0736,-33.9498
END:VEVENT
END:VCALENDAR