BEGIN:VCALENDAR
VERSION:2.0
PRODID:-//Settlers Tavern - ECPv6.15.20//NONSGML v1.0//EN
CALSCALE:GREGORIAN
METHOD:PUBLISH
X-ORIGINAL-URL:https://www.settlerstavern.com
X-WR-CALDESC:Events for Settlers Tavern
REFRESH-INTERVAL;VALUE=DURATION:PT1H
X-Robots-Tag:noindex
X-PUBLISHED-TTL:PT1H
BEGIN:VTIMEZONE
TZID:Australia/Perth
BEGIN:STANDARD
TZOFFSETFROM:+0800
TZOFFSETTO:+0800
TZNAME:AWST
DTSTART:20240101T000000
END:STANDARD
END:VTIMEZONE
BEGIN:VEVENT
DTSTART;TZID=Australia/Perth:20250315T210000
DTEND;TZID=Australia/Perth:20250315T233000
DTSTAMP:20260423T173730
CREATED:20240904T060133Z
LAST-MODIFIED:20250219T032044Z
UID:10000863-1742072400-1742081400@www.settlerstavern.com
SUMMARY:DALLAS RADIO
DESCRIPTION:Dallas Radio are a 5-piece Australian rock band from Dunsborough\, WA. The band formed in early 2019 largely from the division of two bands\, Dallas Royal and Desert Radio. \nLead by spirited front man Mitch Baker\, the new band quickly returned to form playing venues across the south west of WA. \nTheir unique brand of entertainment fuses big vocals and catchy melodies with 90’s style guitar riffs and plenty of stage presence to make you get up and party.
URL:https://www.settlerstavern.com/event/dallas-radio-6/
LOCATION:Settlers Tavern\, 114 Bussell Hwy\, Margaret River\, WA\, 6285\, Australia
CATEGORIES:Live Music,Live Music Australia,Rock
ATTACH;FMTTYPE=image/png:https://www.settlerstavern.com/wp-content/uploads/2024/09/A3-POSTER-1.png
GEO:-33.9498;115.0736
X-APPLE-STRUCTURED-LOCATION;VALUE=URI;X-ADDRESS=Settlers Tavern 114 Bussell Hwy Margaret River WA 6285 Australia;X-APPLE-RADIUS=500;X-TITLE=114 Bussell Hwy:geo:115.0736,-33.9498
END:VEVENT
END:VCALENDAR