BEGIN:VCALENDAR
VERSION:2.0
PRODID:-//Settlers Tavern - ECPv6.15.20//NONSGML v1.0//EN
CALSCALE:GREGORIAN
METHOD:PUBLISH
X-ORIGINAL-URL:https://www.settlerstavern.com
X-WR-CALDESC:Events for Settlers Tavern
REFRESH-INTERVAL;VALUE=DURATION:PT1H
X-Robots-Tag:noindex
X-PUBLISHED-TTL:PT1H
BEGIN:VTIMEZONE
TZID:Australia/Perth
BEGIN:STANDARD
TZOFFSETFROM:+0800
TZOFFSETTO:+0800
TZNAME:AWST
DTSTART:20240101T000000
END:STANDARD
END:VTIMEZONE
BEGIN:VEVENT
DTSTART;TZID=Australia/Perth:20250302T153000
DTEND;TZID=Australia/Perth:20250302T183000
DTSTAMP:20260423T173740
CREATED:20250213T041241Z
LAST-MODIFIED:20250213T041241Z
UID:10000927-1740929400-1740940200@www.settlerstavern.com
SUMMARY:EMPIRE BLUES
DESCRIPTION:Empire- Blues -Duo an offshoot of the prominent Perth Blues band “Empire Blues” which formed in 2005. As the title suggests it is an unplugged duo version of the band with Andrew McIlroy on acoustic\, electric and dobro guitars/vocals and Alan Dawson on fretless bass\, upright stick bass and vocals. Andrew and Alan have performed hundreds of shows together with an infectious familiarity in their playing styles and in the past\, have supported countless interstate and overseas artists.  \nThe same principals of Empire Blues apply in that a considerable percentage of the songs focus on humour\, social comment and Western Australia. 
URL:https://www.settlerstavern.com/event/empire-blues-3/
LOCATION:Settlers Tavern\, 114 Bussell Hwy\, Margaret River\, WA\, 6285\, Australia
CATEGORIES:Blues,Live Music,Live Music Australia
ATTACH;FMTTYPE=image/png:https://www.settlerstavern.com/wp-content/uploads/2025/02/empire-blues.png
GEO:-33.9498;115.0736
X-APPLE-STRUCTURED-LOCATION;VALUE=URI;X-ADDRESS=Settlers Tavern 114 Bussell Hwy Margaret River WA 6285 Australia;X-APPLE-RADIUS=500;X-TITLE=114 Bussell Hwy:geo:115.0736,-33.9498
END:VEVENT
END:VCALENDAR