BEGIN:VCALENDAR
VERSION:2.0
PRODID:-//Settlers Tavern - ECPv6.15.20//NONSGML v1.0//EN
CALSCALE:GREGORIAN
METHOD:PUBLISH
X-WR-CALNAME:Settlers Tavern
X-ORIGINAL-URL:https://www.settlerstavern.com
X-WR-CALDESC:Events for Settlers Tavern
REFRESH-INTERVAL;VALUE=DURATION:PT1H
X-Robots-Tag:noindex
X-PUBLISHED-TTL:PT1H
BEGIN:VTIMEZONE
TZID:Australia/Perth
BEGIN:STANDARD
TZOFFSETFROM:+0800
TZOFFSETTO:+0800
TZNAME:AWST
DTSTART:20240101T000000
END:STANDARD
END:VTIMEZONE
BEGIN:VEVENT
DTSTART;TZID=Australia/Perth:20250117T210000
DTEND;TZID=Australia/Perth:20250117T233000
DTSTAMP:20260423T231925
CREATED:20241211T110041Z
LAST-MODIFIED:20241211T110549Z
UID:10000905-1737147600-1737156600@www.settlerstavern.com
SUMMARY:BRASS PARTY
DESCRIPTION:Brass Party takes the classic club vibes of the 90s and 2000s\, and adds a brassy twist. Expect filthy funk\, outrageous horn lines and face melting guitar solos. Ain’t no party like a Brass Party! These eight good mates have been playing music together for years\, since meeting at university. \nThe band began as a once-off passion project back in 2015\, but has since grown into a local Perth phenomenon\, regularly performing sell-out shows at the Ellington Jazz Club\, opening the Perth International Jazz Festival twice\, performing at FRINGE WORLD Festival since 2021\, and supporting international act the Hot 8 Brass Band. \nBrass Party released their debut EP “Rise of the Doot Warrior” featuring the single “All Night” in November 2023.
URL:https://www.settlerstavern.com/event/brass-party/
LOCATION:Settlers Tavern\, 114 Bussell Hwy\, Margaret River\, WA\, 6285\, Australia
CATEGORIES:Live Music,Live Music Australia
ATTACH;FMTTYPE=image/png:https://www.settlerstavern.com/wp-content/uploads/2024/12/Screenshot-2024-12-11-at-6.57.06 PM.png
GEO:-33.9498;115.0736
X-APPLE-STRUCTURED-LOCATION;VALUE=URI;X-ADDRESS=Settlers Tavern 114 Bussell Hwy Margaret River WA 6285 Australia;X-APPLE-RADIUS=500;X-TITLE=114 Bussell Hwy:geo:115.0736,-33.9498
END:VEVENT
END:VCALENDAR