BEGIN:VCALENDAR
VERSION:2.0
PRODID:-//Settlers Tavern - ECPv6.15.20//NONSGML v1.0//EN
CALSCALE:GREGORIAN
METHOD:PUBLISH
X-ORIGINAL-URL:https://www.settlerstavern.com
X-WR-CALDESC:Events for Settlers Tavern
REFRESH-INTERVAL;VALUE=DURATION:PT1H
X-Robots-Tag:noindex
X-PUBLISHED-TTL:PT1H
BEGIN:VTIMEZONE
TZID:Australia/Perth
BEGIN:STANDARD
TZOFFSETFROM:+0800
TZOFFSETTO:+0800
TZNAME:AWST
DTSTART:20230101T000000
END:STANDARD
END:VTIMEZONE
BEGIN:VEVENT
DTSTART;TZID=Australia/Perth:20240602T150000
DTEND;TZID=Australia/Perth:20240602T180000
DTSTAMP:20260424T190233
CREATED:20240514T193311Z
LAST-MODIFIED:20240530T060751Z
UID:10000812-1717340400-1717351200@www.settlerstavern.com
SUMMARY:OLIVE MAE
DESCRIPTION:Olive Mae is an exciting emerging folk/ country singer songwriter from southwest WA. She hit the Australian country music scene with a bang in 2023 with the release of her single “Rainy Days” and she is one to watch for the future. \nHer sound has been likened to artists including Paul Kelly\, Frente\, Sara Storer and The Waifs. She has shared lineups and stages with the likes of Vika and Linda Bull\, Clare Bowditch\, Joan and the Giants\, Gina Williams and Guy Ghouse and Jack Davies. Off the back of a dual 2023 WAM Song of the Year nomination (Country & Outstanding Regional)\, with her song “Girls Like You” she set out on a 6 month east coast tour\, playing festivals and shows in every state. \nOlive is looking forward to the release of her debut EP\, Hit The Road\, and plans to spend the rest of 2024 settling back into life in WA and playing as many shows and festivals as she can.
URL:https://www.settlerstavern.com/event/olivie-mae/
LOCATION:Settlers Tavern\, 114 Bussell Hwy\, Margaret River\, WA\, 6285\, Australia
CATEGORIES:Acoustic,Country,Folk,Live Music,Live Music Australia,Music
ATTACH;FMTTYPE=image/jpeg:https://www.settlerstavern.com/wp-content/uploads/2024/05/portrait-Olive-mae80-scaled-1.jpg
GEO:-33.9498;115.0736
X-APPLE-STRUCTURED-LOCATION;VALUE=URI;X-ADDRESS=Settlers Tavern 114 Bussell Hwy Margaret River WA 6285 Australia;X-APPLE-RADIUS=500;X-TITLE=114 Bussell Hwy:geo:115.0736,-33.9498
END:VEVENT
BEGIN:VEVENT
DTSTART;TZID=Australia/Perth:20240608T210000
DTEND;TZID=Australia/Perth:20240608T233000
DTSTAMP:20260424T190233
CREATED:20240502T164704Z
LAST-MODIFIED:20240530T060732Z
UID:10000810-1717880400-1717889400@www.settlerstavern.com
SUMMARY:BLACK SABBATH by THE SORCERERS
DESCRIPTION:The Sorcerers pay tribute to the greatest heavy band that ever rampaged across the earth – Black Sabbath! Focussing solely on Sabbath’s first four classic albums from 1970 to 1972 (plus some other classics cherry-picked from later albums like Sabotage and Technical Ecstasy)\, The Sorcerers aim to bring you the energy\, excitement and gigantic riffs of the mightiest of heavy rock bands! \nFree Entry! \nDoors 9pm / Music 9.30pm
URL:https://www.settlerstavern.com/event/black-sabbath-by-the-sorcerers/
LOCATION:Settlers Tavern\, 114 Bussell Hwy\, Margaret River\, WA\, 6285\, Australia
CATEGORIES:Live Music,Live Music Australia,Metal,Music,Rock,Tribute
ATTACH;FMTTYPE=image/jpeg:https://www.settlerstavern.com/wp-content/uploads/2024/05/sorcerers-1.jpg
GEO:-33.9498;115.0736
X-APPLE-STRUCTURED-LOCATION;VALUE=URI;X-ADDRESS=Settlers Tavern 114 Bussell Hwy Margaret River WA 6285 Australia;X-APPLE-RADIUS=500;X-TITLE=114 Bussell Hwy:geo:115.0736,-33.9498
END:VEVENT
BEGIN:VEVENT
DTSTART;TZID=Australia/Perth:20240609T150000
DTEND;TZID=Australia/Perth:20240609T180000
DTSTAMP:20260424T190233
CREATED:20240507T190401Z
LAST-MODIFIED:20240530T060724Z
UID:10000809-1717945200-1717956000@www.settlerstavern.com
SUMMARY:PLUM TREES
DESCRIPTION:THE PLUM TREES \nThe Plum Trees is fronted by singer-songwriter\, Shannon\, based in Dunsborough. She relocated to Beijing to record an EP with a full band and to play at popular music festivals such as The Mushroom Festival\, Dream Sonic and Fete de La Musique. Returning to Australia as a solo project she continues to write and reinvent herself as a guitar & ukulele playing indie-folk mystic with a powerful voice that remains informed by her earlier work\, but these days channels more light than shade. \nMOTH STREET ARTISTS \nMoth Street Artists are a Perth based collaboration of indie\, folk\, rock and Alternative Sounds. Coming together to stretch the limits of their musical backgrounds in a folk trio. They are a combination of powerhouse vocals and ambient / distorted guitars bringing forth feeling and passion like never before. \nANGIE COLMAN \nAngie Colman is a singer/songwriter and guitarist from the Perth hills. With soaring vocals and powerful\, heartfelt melodies\, Angie has captured the hearts of the Perth music community. Lyrically\, Angie is relatable\, witty and honest\, and with the backing of bassist Kieran Barnes\, drummer Miles Gilbert\, and guitarist Sarah Curran\, Angie’s songs have been brought to life on some of Perth’s most loved stages.
URL:https://www.settlerstavern.com/event/plum-trees/
LOCATION:Settlers Tavern\, 114 Bussell Hwy\, Margaret River\, WA\, 6285\, Australia
CATEGORIES:Folk,Live Music,Live Music Australia,Music
ATTACH;FMTTYPE=image/jpeg:https://www.settlerstavern.com/wp-content/uploads/2024/05/IMG_9393-shannon_-scaled-1.jpg
GEO:-33.9498;115.0736
X-APPLE-STRUCTURED-LOCATION;VALUE=URI;X-ADDRESS=Settlers Tavern 114 Bussell Hwy Margaret River WA 6285 Australia;X-APPLE-RADIUS=500;X-TITLE=114 Bussell Hwy:geo:115.0736,-33.9498
END:VEVENT
BEGIN:VEVENT
DTSTART;TZID=Australia/Perth:20240615T210000
DTEND;TZID=Australia/Perth:20240615T233000
DTSTAMP:20260424T190233
CREATED:20240307T174132Z
LAST-MODIFIED:20240530T060706Z
UID:10000483-1718485200-1718494200@www.settlerstavern.com
SUMMARY:LITTLE PEDRO
DESCRIPTION:Little Pedro head south to play their big set list and will give you the best of Ska and British Hits to get you up and dancing. A great way to spend your Saturday night at Settlers Tavern. \nLittle Pedro: Playing Ska\, 2 Tone\, Brit Indi and popular Brit tracks. \nLittle Pedro have been the driving force behind the Ska and British Music Festival since 2015. \nA dynamic / fun 9 piece band with a formidable brass section and great stage show. Playing hits from the 70s\, 80s and 90s British sub-culture and popular tracks to fill the dance floor.
URL:https://www.settlerstavern.com/event/little-pedro-2/
LOCATION:Settlers Tavern\, 114 Bussell Hwy\, Margaret River\, WA\, 6285\, Australia
CATEGORIES:Live Music,Live Music Australia,Music,Ska
ATTACH;FMTTYPE=image/jpeg:https://www.settlerstavern.com/wp-content/uploads/2024/04/Little-Pedro-Brass-Section.jpg
GEO:-33.9498;115.0736
X-APPLE-STRUCTURED-LOCATION;VALUE=URI;X-ADDRESS=Settlers Tavern 114 Bussell Hwy Margaret River WA 6285 Australia;X-APPLE-RADIUS=500;X-TITLE=114 Bussell Hwy:geo:115.0736,-33.9498
END:VEVENT
BEGIN:VEVENT
DTSTART;TZID=Australia/Perth:20240616T150000
DTEND;TZID=Australia/Perth:20240616T180000
DTSTAMP:20260424T190233
CREATED:20240307T174652Z
LAST-MODIFIED:20240530T060648Z
UID:10000482-1718550000-1718560800@www.settlerstavern.com
SUMMARY:LITTLE PEDRO - UNPLUGGED
DESCRIPTION:Little Pedro head south to play their big set list and will give you the best of Ska and British Hits to get you up and dancing. A great way to spend your Sunday afternoon at Settlers Tavern. \nLittle Pedro: Playing Ska\, 2 Tone\, Brit Indi and popular Brit tracks. \nLittle Pedro have been the driving force behind the Ska and British Music Festival since 2015. \nA dynamic / fun 9 piece band with a formidable brass section and great stage show. Playing hits from the 70s\, 80s and 90s British sub-culture and popular tracks to fill the dance floor.
URL:https://www.settlerstavern.com/event/little-pedro-unplugged/
LOCATION:Settlers Tavern\, 114 Bussell Hwy\, Margaret River\, WA\, 6285\, Australia
CATEGORIES:Live Music,Live Music Australia,Music,Ska
ATTACH;FMTTYPE=image/jpeg:https://www.settlerstavern.com/wp-content/uploads/2024/04/Little-Pedro-Brass-Section.jpg
GEO:-33.9498;115.0736
X-APPLE-STRUCTURED-LOCATION;VALUE=URI;X-ADDRESS=Settlers Tavern 114 Bussell Hwy Margaret River WA 6285 Australia;X-APPLE-RADIUS=500;X-TITLE=114 Bussell Hwy:geo:115.0736,-33.9498
END:VEVENT
BEGIN:VEVENT
DTSTART;TZID=Australia/Perth:20240622T210000
DTEND;TZID=Australia/Perth:20240622T233000
DTSTAMP:20260424T190233
CREATED:20240502T171404Z
LAST-MODIFIED:20240530T060638Z
UID:10000806-1719090000-1719099000@www.settlerstavern.com
SUMMARY:SOULJAH KAPTIVEZ
DESCRIPTION:Souljahz Are Back & Heading Down South to Margaret Riveron Saturday 22nd June\, doors 9pm FREE ENTRY! \n  \nWe can’t wait To Jam Sweet Reggae Music With Y’all.See you there
URL:https://www.settlerstavern.com/event/souljah-kaptivez-2-2/
LOCATION:Settlers Tavern\, 114 Bussell Hwy\, Margaret River\, WA\, 6285\, Australia
CATEGORIES:Live Music,Live Music Australia,Music,Reggae
ATTACH;FMTTYPE=image/jpeg:https://www.settlerstavern.com/wp-content/uploads/2024/05/Unknown-1.jpeg
GEO:-33.9498;115.0736
X-APPLE-STRUCTURED-LOCATION;VALUE=URI;X-ADDRESS=Settlers Tavern 114 Bussell Hwy Margaret River WA 6285 Australia;X-APPLE-RADIUS=500;X-TITLE=114 Bussell Hwy:geo:115.0736,-33.9498
END:VEVENT
BEGIN:VEVENT
DTSTART;TZID=Australia/Perth:20240623T150000
DTEND;TZID=Australia/Perth:20240623T180000
DTSTAMP:20260424T190233
CREATED:20240412T212510Z
LAST-MODIFIED:20240530T060624Z
UID:10000805-1719154800-1719165600@www.settlerstavern.com
SUMMARY:MITCH BAKER DUO
DESCRIPTION:Mitch Baker Duo\, a dynamic and exceptional outfit\, emerging from the vibrant music scene of the South West region in Western Australia. Known for their powerful and quality vocals\, Mitch has left audiences mesmerized with his dynamic song choices.\n\nFrom an early age\, Mitch’s love for music became evident. He honed his vocal skills with unmatched dedication\, turning heads with his impressive range and undeniable talent. His dedication to his craft has allowed him to share the stage with esteemed artists such as Josh Pyke\, Phil Jamieson from Grinspoon\, Donavon Frankenreiter\, and Mark Seymour from Hunters and Collectors\, among numerous others.\n\nMitch’s distinct vocal prowess captivates audiences\, leaving them enthralled with each performance. His wide-ranging repertoire includes a plethora of genres\, showcasing his versatility and ability to connect with any crowd. Whether he’s belting out soulful ballads\, rocking the stage with energetic anthems\, or delving into heartfelt acoustic melodies\, Mitch’s eclectic song choices reveal his passion for embracing different musical flavors.\n\nGuided by his musical sensibility and creativity\, Mitch’s Duo partner Evan Smith brings new life to every song he performs. His ability to infuse emotion and authenticity into his renditions is truly remarkable\, creating an unforgettable experience for those who witness their live performances.\n\nAs a local vocalist in the South West of Western Australia\, Mitch Baker’s talents have not only earned him a devoted following but also respect and recognition within the industry. With his powerful vocals\, devotion to his art\, and an unparalleled drive\, Mitch is poised to make waves beyond the local scene\, leaving an indelible mark on the global music landscape. Keep an eye out for this rising star as he continues to mesmerize audiences with his gifted voice and eclectic song choices.
URL:https://www.settlerstavern.com/event/mitch-baker-duo-5/
LOCATION:Settlers Tavern\, 114 Bussell Hwy\, Margaret River\, WA\, 6285\, Australia
CATEGORIES:Acoustic,Live Music,Live Music Australia,Music
ATTACH;FMTTYPE=image/png:https://www.settlerstavern.com/wp-content/uploads/2024/04/image034.png
GEO:-33.9498;115.0736
X-APPLE-STRUCTURED-LOCATION;VALUE=URI;X-ADDRESS=Settlers Tavern 114 Bussell Hwy Margaret River WA 6285 Australia;X-APPLE-RADIUS=500;X-TITLE=114 Bussell Hwy:geo:115.0736,-33.9498
END:VEVENT
BEGIN:VEVENT
DTSTART;TZID=Australia/Perth:20240629T210000
DTEND;TZID=Australia/Perth:20240629T233000
DTSTAMP:20260424T190233
CREATED:20240425T194225Z
LAST-MODIFIED:20240530T060604Z
UID:10000803-1719694800-1719703800@www.settlerstavern.com
SUMMARY:CRASH CREOLE + GO GO DANCERS
DESCRIPTION:Join us on Saturday\, June 29th\, for a night of electrifying Rockabilly blues and rock ‘n’ roll with CrashCreole Trio! \nFeaturing:  Mat “Bob” Munro on lead guitar and vocals  Kieran Barnes on upright bass  Chris Clayton on drums \nPlus\, groove along with The Beehives Go Go dancers\, adding retro vibes and a fun atmosphere as they dance up a storm! \n Doors open at 9:00 PM  Music starts at 9:30 PM ️ FREE ENTRY \nDon’t miss out on this unforgettable night of live music and entertainment!
URL:https://www.settlerstavern.com/event/crash-creole/
LOCATION:Settlers Tavern\, 114 Bussell Hwy\, Margaret River\, WA\, 6285\, Australia
CATEGORIES:Blues,Live Music,Live Music Australia,Music,Rock'n'Roll,Rockabilly
ATTACH;FMTTYPE=image/webp:https://www.settlerstavern.com/wp-content/uploads/2024/05/IMG_20240408_114504_729-scaled-1.webp
GEO:-33.9498;115.0736
X-APPLE-STRUCTURED-LOCATION;VALUE=URI;X-ADDRESS=Settlers Tavern 114 Bussell Hwy Margaret River WA 6285 Australia;X-APPLE-RADIUS=500;X-TITLE=114 Bussell Hwy:geo:115.0736,-33.9498
END:VEVENT
BEGIN:VEVENT
DTSTART;TZID=Australia/Perth:20240630T150000
DTEND;TZID=Australia/Perth:20240630T180000
DTSTAMP:20260424T190233
CREATED:20240617T055238Z
LAST-MODIFIED:20240617T055606Z
UID:10000821-1719759600-1719770400@www.settlerstavern.com
SUMMARY:EVAN AYRES
DESCRIPTION:Born and raised in Albany WA. Evan started playing the Guitar at the age of seven. Singing before he could talk. \nAfter a string of gigs including six sell out shows at Albany’s Port Theatre in 2019\, Evan moved to Perth in 2020 to study a Bachelor of Music at the Western Australian Academy Of Performing Arts. He then toured Western Australia and The Northern Territory in 2022. Evan spent 2023 touring the east coast of Australia. 2024 Evan toured the UK for three months. \n“In my show\, I sing\, play guitar\, and saxophone\, along with a loop pedal and stomp box.” \nEvan brings his huge\, diverse repertoire\, and spontaneity. Which entertains all generations. He always puts on a show. With all his trademark jokes\, banter\, and charisma. \nFrom all time classics ‘Hit The Road Jack’\, all the way to ‘Shivers’ By Ed Sheeran. Evan’s huge repertoire has something for everyone. \nThis all-star performer guarantees a great show!
URL:https://www.settlerstavern.com/event/evan-ayres/
LOCATION:Settlers Tavern\, 114 Bussell Hwy\, Margaret River\, WA\, 6285\, Australia
CATEGORIES:Country,Live Music,Live Music Australia,Pop,Rock'n'Roll
ATTACH;FMTTYPE=image/png:https://www.settlerstavern.com/wp-content/uploads/2024/06/Screen-Shot-2024-06-17-at-1.55.45-pm.png
GEO:-33.9498;115.0736
X-APPLE-STRUCTURED-LOCATION;VALUE=URI;X-ADDRESS=Settlers Tavern 114 Bussell Hwy Margaret River WA 6285 Australia;X-APPLE-RADIUS=500;X-TITLE=114 Bussell Hwy:geo:115.0736,-33.9498
END:VEVENT
END:VCALENDAR