BEGIN:VCALENDAR
VERSION:2.0
PRODID:-//Settlers Tavern - ECPv6.15.18//NONSGML v1.0//EN
CALSCALE:GREGORIAN
METHOD:PUBLISH
X-WR-CALNAME:Settlers Tavern
X-ORIGINAL-URL:https://www.settlerstavern.com
X-WR-CALDESC:Events for Settlers Tavern
REFRESH-INTERVAL;VALUE=DURATION:PT1H
X-Robots-Tag:noindex
X-PUBLISHED-TTL:PT1H
BEGIN:VTIMEZONE
TZID:Australia/Perth
BEGIN:STANDARD
TZOFFSETFROM:+0800
TZOFFSETTO:+0800
TZNAME:AWST
DTSTART:20240101T000000
END:STANDARD
END:VTIMEZONE
BEGIN:VEVENT
DTSTART;TZID=Australia/Perth:20251228T153000
DTEND;TZID=Australia/Perth:20251228T183000
DTSTAMP:20260420T161626
CREATED:20251118T043848Z
LAST-MODIFIED:20251118T043848Z
UID:10001052-1766935800-1766946600@www.settlerstavern.com
SUMMARY:DAN WHITE
DESCRIPTION:An avid ambassador for WA music\, Dan has 20 years of professional experience in the music and entertainment industry after growing up with a guitar in hand and performing regularly since 11 years of age. \nWith a solid background in songwriting\, live performance\, studio recording and production\, live sound\, tour management and marketing\, Dan has toured and recorded extensively\, with 2000+ shows and 70+ releases to his name\, having supported acts such as Xavier Rudd\, The Cat Empire\, The Teskey Brothers\, San Cisco\, Winston Surfshirt\, Ash Grunwald and many more in his time.  \nDan currently performs with Margaret River-based acts Brightsider and Moon & Honey\, and you can catch him regularly performing solo & DJing around the South West Region.
URL:https://www.settlerstavern.com/event/dan-white-3/
LOCATION:Settlers Tavern\, 114 Bussell Hwy\, Margaret River\, WA\, 6285\, Australia
CATEGORIES:Acoustic,Live Music,Live Music Australia
ATTACH;FMTTYPE=image/jpeg:https://www.settlerstavern.com/wp-content/uploads/2025/11/Dan-White-solo-Tav-Dec-2025-WEB-scaled-e1763440705164.jpg
GEO:-33.9498;115.0736
X-APPLE-STRUCTURED-LOCATION;VALUE=URI;X-ADDRESS=Settlers Tavern 114 Bussell Hwy Margaret River WA 6285 Australia;X-APPLE-RADIUS=500;X-TITLE=114 Bussell Hwy:geo:115.0736,-33.9498
END:VEVENT
END:VCALENDAR