BEGIN:VCALENDAR
VERSION:2.0
PRODID:-//Settlers Tavern - ECPv6.15.18//NONSGML v1.0//EN
CALSCALE:GREGORIAN
METHOD:PUBLISH
X-WR-CALNAME:Settlers Tavern
X-ORIGINAL-URL:https://www.settlerstavern.com
X-WR-CALDESC:Events for Settlers Tavern
REFRESH-INTERVAL;VALUE=DURATION:PT1H
X-Robots-Tag:noindex
X-PUBLISHED-TTL:PT1H
BEGIN:VTIMEZONE
TZID:Australia/Perth
BEGIN:STANDARD
TZOFFSETFROM:+0800
TZOFFSETTO:+0800
TZNAME:AWST
DTSTART:20240101T000000
END:STANDARD
END:VTIMEZONE
BEGIN:VEVENT
DTSTART;TZID=Australia/Perth:20251206T210000
DTEND;TZID=Australia/Perth:20251206T233000
DTSTAMP:20260420T161506
CREATED:20251103T043405Z
LAST-MODIFIED:20251103T043405Z
UID:10001043-1765054800-1765063800@www.settlerstavern.com
SUMMARY:Little Pedro
DESCRIPTION:“Little Pedro” Perths original and best Ska and British Classics Band. \nPlaying all your favourite Ska\, TwoTone and UK bangers with 7-piece party band.\n\nAvailable for all types of functions\, including birthday and Christmas parties\, Christenings\, Weddings and Barmitsvas. Covering all areas of WA!
URL:https://www.settlerstavern.com/event/little-pedro-5/
LOCATION:Settlers Tavern\, 114 Bussell Hwy\, Margaret River\, WA\, 6285\, Australia
CATEGORIES:Classics,Live Music,Live Music Australia
ATTACH;FMTTYPE=image/jpeg:https://www.settlerstavern.com/wp-content/uploads/2025/11/little-pedro.jpg
GEO:-33.9498;115.0736
X-APPLE-STRUCTURED-LOCATION;VALUE=URI;X-ADDRESS=Settlers Tavern 114 Bussell Hwy Margaret River WA 6285 Australia;X-APPLE-RADIUS=500;X-TITLE=114 Bussell Hwy:geo:115.0736,-33.9498
END:VEVENT
END:VCALENDAR