BEGIN:VCALENDAR
VERSION:2.0
PRODID:-//Settlers Tavern - ECPv6.15.18//NONSGML v1.0//EN
CALSCALE:GREGORIAN
METHOD:PUBLISH
X-WR-CALNAME:Settlers Tavern
X-ORIGINAL-URL:https://www.settlerstavern.com
X-WR-CALDESC:Events for Settlers Tavern
REFRESH-INTERVAL;VALUE=DURATION:PT1H
X-Robots-Tag:noindex
X-PUBLISHED-TTL:PT1H
BEGIN:VTIMEZONE
TZID:Australia/Perth
BEGIN:STANDARD
TZOFFSETFROM:+0800
TZOFFSETTO:+0800
TZNAME:AWST
DTSTART:20240101T000000
END:STANDARD
END:VTIMEZONE
BEGIN:VEVENT
DTSTART;TZID=Australia/Perth:20251129T210000
DTEND;TZID=Australia/Perth:20251129T233000
DTSTAMP:20260422T182138
CREATED:20251118T004951Z
LAST-MODIFIED:20251118T004951Z
UID:10001049-1764450000-1764459000@www.settlerstavern.com
SUMMARY:HEY RAMONA
DESCRIPTION:Margaret River’s own rock powerhouse Hey Ramona are set to light up the stage once again\, delivering a night of electrifying live music that promises to get the whole town on its feet. \nKnown for their big sound\, tight musicianship\, and a setlist packed with crowd-pleasing anthems\, Hey Ramona have built a reputation as one of the region’s most dynamic live acts. Blending classic rock hits with modern favourites\, the band brings an energy that keeps dance floors pumping and audiences shouting for more.
URL:https://www.settlerstavern.com/event/hey-ramona-2/
LOCATION:Settlers Tavern\, 114 Bussell Hwy\, Margaret River\, WA\, 6285\, Australia
ATTACH;FMTTYPE=image/jpeg:https://www.settlerstavern.com/wp-content/uploads/2025/11/hey-ramona-scaled.jpeg
GEO:-33.9498;115.0736
X-APPLE-STRUCTURED-LOCATION;VALUE=URI;X-ADDRESS=Settlers Tavern 114 Bussell Hwy Margaret River WA 6285 Australia;X-APPLE-RADIUS=500;X-TITLE=114 Bussell Hwy:geo:115.0736,-33.9498
END:VEVENT
END:VCALENDAR