BEGIN:VCALENDAR
VERSION:2.0
PRODID:-//Settlers Tavern - ECPv6.15.18//NONSGML v1.0//EN
CALSCALE:GREGORIAN
METHOD:PUBLISH
X-WR-CALNAME:Settlers Tavern
X-ORIGINAL-URL:https://www.settlerstavern.com
X-WR-CALDESC:Events for Settlers Tavern
REFRESH-INTERVAL;VALUE=DURATION:PT1H
X-Robots-Tag:noindex
X-PUBLISHED-TTL:PT1H
BEGIN:VTIMEZONE
TZID:Australia/Perth
BEGIN:STANDARD
TZOFFSETFROM:+0800
TZOFFSETTO:+0800
TZNAME:AWST
DTSTART:20240101T000000
END:STANDARD
END:VTIMEZONE
BEGIN:VEVENT
DTSTART;TZID=Australia/Perth:20251123T153000
DTEND;TZID=Australia/Perth:20251123T183000
DTSTAMP:20260422T182136
CREATED:20250901T043915Z
LAST-MODIFIED:20250901T043915Z
UID:10001017-1763911800-1763922600@www.settlerstavern.com
SUMMARY:ANDY PEKNOW
DESCRIPTION:Hailing from South West WA\, and inspired by the Blackwood River in flood\, Blackwood Rising are a blues fuelled force of nature. Two blokes\, guitars and drums. A finely balanced and nuanced relationship forged on a mutual love of music spiced by utter contempt for each other\, offset by an abiding musical brotherhood and grudging respect (and a healthy sense of humour) that only two decades of playing together can achieve. Fingerpicking and some bottleneck slide\, alternate tunings\, an octave pedal\, a drumkit hit like it owes money and a disdain for technology is their thing. As well as gigging up and down the state on their own they’ve also supported the likes of Rick Steele\, Blue Shaddy\, The Black Sorrows and 19-Twenty.
URL:https://www.settlerstavern.com/event/andy-peknow/
LOCATION:Settlers Tavern\, 114 Bussell Hwy\, Margaret River\, WA\, 6285\, Australia
ATTACH;FMTTYPE=image/png:https://www.settlerstavern.com/wp-content/uploads/2025/09/Screen-Shot-2025-09-01-at-12.38.26-pm.png
GEO:-33.9498;115.0736
X-APPLE-STRUCTURED-LOCATION;VALUE=URI;X-ADDRESS=Settlers Tavern 114 Bussell Hwy Margaret River WA 6285 Australia;X-APPLE-RADIUS=500;X-TITLE=114 Bussell Hwy:geo:115.0736,-33.9498
END:VEVENT
END:VCALENDAR