BEGIN:VCALENDAR
VERSION:2.0
PRODID:-//Settlers Tavern - ECPv6.15.18//NONSGML v1.0//EN
CALSCALE:GREGORIAN
METHOD:PUBLISH
X-ORIGINAL-URL:https://www.settlerstavern.com
X-WR-CALDESC:Events for Settlers Tavern
REFRESH-INTERVAL;VALUE=DURATION:PT1H
X-Robots-Tag:noindex
X-PUBLISHED-TTL:PT1H
BEGIN:VTIMEZONE
TZID:Australia/Perth
BEGIN:STANDARD
TZOFFSETFROM:+0800
TZOFFSETTO:+0800
TZNAME:AWST
DTSTART:20240101T000000
END:STANDARD
END:VTIMEZONE
BEGIN:VEVENT
DTSTART;TZID=Australia/Perth:20251019T210000
DTEND;TZID=Australia/Perth:20251019T233000
DTSTAMP:20260422T222936
CREATED:20250821T112244Z
LAST-MODIFIED:20250821T112359Z
UID:10001013-1760907600-1760916600@www.settlerstavern.com
SUMMARY:DYLAN HUTCHINS
DESCRIPTION:Dylan was born in Kalamunda out of Swan Districts\, Western Australia in 1995\, picked up his first guitar at 8 and started putting pen to paper not long after. He started his carpentry apprenticeship at 14 and spent most of the next 12 years in the trade and a handful in rural exploration. \nAt 26 years old\, that was it – he’d had enough and took the dive. From starting out playing locals pubs and busking at events to playing across WA for pubs\, bars\, corporations\,  mine sites agricultural shows and events. While developing his original career as well. \nWhen you hear his music you can expect to hear the influences of Chris Stapleton\, James Bay & John Mayer\, one of his favourite quotations from the drummer that played on his upcoming single ‘It’s like Pearl Jam went Country’ and that has been one of his most humbling verdicts yet.  \nDylan always said\, his music is for those who’ve had a tough day\, they get home grab a beverage and put on one of his songs. The reality is\, it can be pretty tough out there and it certainly ain’t fair. But through the journey we travel and the things we experience through all the good and the bad\, he hopes to write songs that we can all relate as truly believe we are all in the struggle together to find our purpose.
URL:https://www.settlerstavern.com/event/dylan-hutchins/
LOCATION:Settlers Tavern\, 114 Bussell Hwy\, Margaret River\, WA\, 6285\, Australia
ATTACH;FMTTYPE=image/png:https://www.settlerstavern.com/wp-content/uploads/2025/08/IMG_1175.png
GEO:-33.9498;115.0736
X-APPLE-STRUCTURED-LOCATION;VALUE=URI;X-ADDRESS=Settlers Tavern 114 Bussell Hwy Margaret River WA 6285 Australia;X-APPLE-RADIUS=500;X-TITLE=114 Bussell Hwy:geo:115.0736,-33.9498
END:VEVENT
END:VCALENDAR