BEGIN:VCALENDAR
VERSION:2.0
PRODID:-//Settlers Tavern - ECPv6.15.18//NONSGML v1.0//EN
CALSCALE:GREGORIAN
METHOD:PUBLISH
X-WR-CALNAME:Settlers Tavern
X-ORIGINAL-URL:https://www.settlerstavern.com
X-WR-CALDESC:Events for Settlers Tavern
REFRESH-INTERVAL;VALUE=DURATION:PT1H
X-Robots-Tag:noindex
X-PUBLISHED-TTL:PT1H
BEGIN:VTIMEZONE
TZID:Australia/Perth
BEGIN:STANDARD
TZOFFSETFROM:+0800
TZOFFSETTO:+0800
TZNAME:AWST
DTSTART:20240101T000000
END:STANDARD
END:VTIMEZONE
BEGIN:VEVENT
DTSTART;TZID=Australia/Perth:20251012T153000
DTEND;TZID=Australia/Perth:20251012T183000
DTSTAMP:20260422T182137
CREATED:20250904T114438Z
LAST-MODIFIED:20250915T114819Z
UID:10001019-1760283000-1760293800@www.settlerstavern.com
SUMMARY:THE DUDES OF GRACE
DESCRIPTION:Meet The Dudes of Grace – an original music band born from a moment of deep meaning\, and now over two years into their journey of lifting spirits & warming hearts through their music. \nThe Dudes of Grace are a Fremantle\, West Australian based band who play what’s been referred to as a Bohemian mix of gypsy\, pirate\, fairground music with a little twist of Tango. They are out to change the world one tune at a time! \nPerforming eclectic\, well-crafted original compositions\, their powerful lead vocals\, beautiful harmonies and multitude of instruments\, (including accordion\, saxophones\, flute\, double bass\, ukulele\, guitars\, harmonicas\, and percussion) will be sure to not only captivate you\, warm your heart and lift your spirits\, but get you dancing too…
URL:https://www.settlerstavern.com/event/the-dudes-of-grace/
LOCATION:WA
ATTACH;FMTTYPE=image/jpeg:https://www.settlerstavern.com/wp-content/uploads/2025/09/New-band-photo-wide-scaled.jpg
END:VEVENT
END:VCALENDAR