BEGIN:VCALENDAR
VERSION:2.0
PRODID:-//Settlers Tavern - ECPv6.15.18//NONSGML v1.0//EN
CALSCALE:GREGORIAN
METHOD:PUBLISH
X-ORIGINAL-URL:https://www.settlerstavern.com
X-WR-CALDESC:Events for Settlers Tavern
REFRESH-INTERVAL;VALUE=DURATION:PT1H
X-Robots-Tag:noindex
X-PUBLISHED-TTL:PT1H
BEGIN:VTIMEZONE
TZID:Australia/Perth
BEGIN:STANDARD
TZOFFSETFROM:+0800
TZOFFSETTO:+0800
TZNAME:AWST
DTSTART:20240101T000000
END:STANDARD
END:VTIMEZONE
BEGIN:VEVENT
DTSTART;TZID=Australia/Perth:20250628T183000
DTEND;TZID=Australia/Perth:20250628T233000
DTSTAMP:20260423T063813
CREATED:20250530T005702Z
LAST-MODIFIED:20250620T062235Z
UID:10000974-1751135400-1751153400@www.settlerstavern.com
SUMMARY:BLUES & SOUL REVIVAL
DESCRIPTION:BIG BAND SERIES – WINTER NEVER SOUNDED SO GOOD\nGet ready to shake off the winter blues with a massive series of tribute nights that bring the heat! The Big Band Series features larger-than-life tribute acts\, themed cocktail bars\, party giveaways\, and a buzzing pre-show vibe courtesy of DJ ERIK from 6:30pm. Each night\, we bring the energy with big bands on stage from 9:30pm ’til late. \nBecause winter doesn’t have to be miserable.\nFollow us on socials for ticket giveaways and more!\nStrictly 18+ \n  \nSAT 28 JUNE – BLUES & SOUL REVIVAL\nThe Blues Brothers Show Band & The Commitments AustraliaAn electrifying tribute to the icons of blues and soul. Get down with a high-energy revival of classic hits that defined a generation. Fedora hats\, dry martinis\, and G&Ts flow at our gin-themed cocktail bar\, featuring Gordon’s and Tanqueray. \nFirst up\, The Commitments Australia deliver a soul-soaked tribute to the iconic Commitments movie and soundtrack\, with powerhouse vocals\, sizzling horns\, and the unforgettable sounds of Mustang Sally\, Try a Little Tenderness\, and In the Midnight Hour. \nThen\, The Spectacular Blues Brothers Showband & Revue hit the stage in full force\, bringing the legendary music and swagger of The Blues Brothers to life. From Soul Man to Everybody Needs Somebody to Love\, this is a high-octane tribute packed with attitude\, style\, and pure rhythm and blues. \nTwo bands. One stage. Endless soul.\nDon’t miss this spectacular double-bill tribute event—where the music lives on\, and the dance floor never stops \n_____ \n Commitments Australia  \nThe Commitments Australia are a dynamic 10-piece tribute band based in Western Australia\, dedicated to celebrating the soul-stirring music of The Commitments movie and its legendary soundtrack. Featuring some of Perth’s premier musicians\, this powerhouse ensemble delivers high-energy\, authentic performances of beloved soul classics like Mustang Sally\, Chain of Fools\, and Treat Her Right. With a killer rhythm section\, sizzling horns\, and powerhouse vocals\, The Commitments Australia bring the raw soul and passion of the film to the stage—guaranteed to get audiences dancing and singing all night long. \nSpectacular Blues Brothers Showband & Review  \nThe Spectacular Blues Brothers Showband & Revue is a high-octane 10-piece tribute band from Western Australia\, bringing the legendary energy of The Blues Brothers movie and soundtrack to life. Featuring Perth’s finest musicians\, this show is a soul-packed\, foot-stomping journey through hits like Soul Man\, Everybody Needs Somebody to Love\, and Gimme Some Lovin’. Complete with sharp suits\, shades\, and all the attitude of Jake and Elwood themselves\, The Spectacular Blues Brothers Showband & Revue is a full-throttle homage to one of the most iconic rhythm and blues acts of all time. \n  \n_________ \nSAT 26 JULY – AUSSIE ROCK LEGENDS\nHum Drum Revival + Over The TopStrap in for a rocking tribute to Countdown-era legends and Aussie pub rock royalty like The Angels. The vibe is pirate rock and rum-fuelled rebellion – think Bundy\, Captain Morgan\, Dark ‘n’ Stormies\, and Piña Coladas. Aussie music. Pirate attitude. \n\nSAT 30 AUG – SPRING LOADED\n43 Cambridge BandSpring is coming early! Celebrate with a night of massive rock anthems and legends from every era. Sip on Espresso Martinis\, Moscow Mules\, and bright vodka slushies as the beer garden turns into a pre-summer party paradise.
URL:https://www.settlerstavern.com/event/blues-soul-revival/
LOCATION:Settlers Tavern\, 114 Bussell Hwy\, Margaret River\, WA\, 6285\, Australia
CATEGORIES:Blues,Live Music,Live Music Australia,Rhythm,Soul,Special Event,Tribute
ATTACH;FMTTYPE=image/png:https://www.settlerstavern.com/wp-content/uploads/2025/05/Untitled-design.png
GEO:-33.9498;115.0736
X-APPLE-STRUCTURED-LOCATION;VALUE=URI;X-ADDRESS=Settlers Tavern 114 Bussell Hwy Margaret River WA 6285 Australia;X-APPLE-RADIUS=500;X-TITLE=114 Bussell Hwy:geo:115.0736,-33.9498
END:VEVENT
END:VCALENDAR