BEGIN:VCALENDAR
VERSION:2.0
PRODID:-//Settlers Tavern - ECPv6.15.18//NONSGML v1.0//EN
CALSCALE:GREGORIAN
METHOD:PUBLISH
X-ORIGINAL-URL:https://www.settlerstavern.com
X-WR-CALDESC:Events for Settlers Tavern
REFRESH-INTERVAL;VALUE=DURATION:PT1H
X-Robots-Tag:noindex
X-PUBLISHED-TTL:PT1H
BEGIN:VTIMEZONE
TZID:Australia/Perth
BEGIN:STANDARD
TZOFFSETFROM:+0800
TZOFFSETTO:+0800
TZNAME:AWST
DTSTART:20240101T000000
END:STANDARD
END:VTIMEZONE
BEGIN:VEVENT
DTSTART;TZID=Australia/Perth:20250614T210000
DTEND;TZID=Australia/Perth:20250614T233000
DTSTAMP:20260423T063813
CREATED:20250523T030137Z
LAST-MODIFIED:20250526T040219Z
UID:10000964-1749934800-1749943800@www.settlerstavern.com
SUMMARY:LEGS ELECTRIC
DESCRIPTION:Legs Electric are one of Australia’s finest rock bands – ultra-energetic and always ready to deliver. They summon the spirit of the golden days of heavy rock – overcharged ‘70s blues-based riffs with a full-power vocal attack and a live show worthy of Sunset Strip. The girls have wowed both national audiences\, and rock’n’roll legends with whom they’ve shared the stage. They have supported some of rock’s heavy-hitters\, such as KISS\, Everclear\, Deville\, Wolfmother\, Shihad\, British India\, Dallas Frasca\, Cherie Currie (The Runaways)\, Sebastian Bach\, Uriah Heep\, Ace Frehley\, Blues Pills\, The Datsuns\, The Bellrays\, The Baby Animals and The Superjesus.
URL:https://www.settlerstavern.com/event/legs-electric-2/
LOCATION:Settlers Tavern\, 114 Bussell Hwy\, Margaret River\, WA\, 6285\, Australia
CATEGORIES:Alternative,Live Music,Live Music Australia,Rock
ATTACH;FMTTYPE=image/png:https://www.settlerstavern.com/wp-content/uploads/2025/05/Screenshot-2025-05-26-at-12.00.14 PM.png
GEO:-33.9498;115.0736
X-APPLE-STRUCTURED-LOCATION;VALUE=URI;X-ADDRESS=Settlers Tavern 114 Bussell Hwy Margaret River WA 6285 Australia;X-APPLE-RADIUS=500;X-TITLE=114 Bussell Hwy:geo:115.0736,-33.9498
END:VEVENT
END:VCALENDAR