BEGIN:VCALENDAR
VERSION:2.0
PRODID:-//Settlers Tavern - ECPv6.15.18//NONSGML v1.0//EN
CALSCALE:GREGORIAN
METHOD:PUBLISH
X-ORIGINAL-URL:https://www.settlerstavern.com
X-WR-CALDESC:Events for Settlers Tavern
REFRESH-INTERVAL;VALUE=DURATION:PT1H
X-Robots-Tag:noindex
X-PUBLISHED-TTL:PT1H
BEGIN:VTIMEZONE
TZID:Australia/Perth
BEGIN:STANDARD
TZOFFSETFROM:+0800
TZOFFSETTO:+0800
TZNAME:AWST
DTSTART:20240101T000000
END:STANDARD
END:VTIMEZONE
BEGIN:VEVENT
DTSTART;TZID=Australia/Perth:20250608T150000
DTEND;TZID=Australia/Perth:20250608T180000
DTSTAMP:20260423T063815
CREATED:20250430T055552Z
LAST-MODIFIED:20250430T060014Z
UID:10000957-1749394800-1749405600@www.settlerstavern.com
SUMMARY:GAYBIRDS - Of Sound Mind Tour
DESCRIPTION:Gaybirds are your cousin’s favourite band — and soon to be yours too. They blend an exquisite banquet of styles and instruments with willing participants from the crowd to create fresh sounds. Armed with ancient tools\, modern gadgets\, and arguably more enthusiasm than preparation\, Ben Francis (multi-instrumentalist) Mathew Hatch (Flute and keys) and Mr Matthew Bracknell (Echo Omen) have been overdelivering to pubs\, clubs\, and festivals across WA for the past six months creating part gig\, part shared hallucinations. \nStill in their wild infancy Gaybirds are proving to be potent\, unpredictable\, and strangely addictive. Come see the ever-growing\, ever-weird Of Sound Mind tour blossoming in the fertile boodja of Southwest WA.
URL:https://www.settlerstavern.com/event/gaybirds-of-sound-mind-tour/
LOCATION:Settlers Tavern\, 114 Bussell Hwy\, Margaret River\, WA\, 6285\, Australia
CATEGORIES:Acoustic,Experimental,Live Music,Live Music Australia
ATTACH;FMTTYPE=image/png:https://www.settlerstavern.com/wp-content/uploads/2025/04/Screenshot-2025-04-30-at-1.50.39 PM.png
GEO:-33.9498;115.0736
X-APPLE-STRUCTURED-LOCATION;VALUE=URI;X-ADDRESS=Settlers Tavern 114 Bussell Hwy Margaret River WA 6285 Australia;X-APPLE-RADIUS=500;X-TITLE=114 Bussell Hwy:geo:115.0736,-33.9498
END:VEVENT
END:VCALENDAR