BEGIN:VCALENDAR
VERSION:2.0
PRODID:-//Settlers Tavern - ECPv6.15.18//NONSGML v1.0//EN
CALSCALE:GREGORIAN
METHOD:PUBLISH
X-ORIGINAL-URL:https://www.settlerstavern.com
X-WR-CALDESC:Events for Settlers Tavern
REFRESH-INTERVAL;VALUE=DURATION:PT1H
X-Robots-Tag:noindex
X-PUBLISHED-TTL:PT1H
BEGIN:VTIMEZONE
TZID:Australia/Perth
BEGIN:STANDARD
TZOFFSETFROM:+0800
TZOFFSETTO:+0800
TZNAME:AWST
DTSTART:20240101T000000
END:STANDARD
END:VTIMEZONE
BEGIN:VEVENT
DTSTART;TZID=Australia/Perth:20250607T210000
DTEND;TZID=Australia/Perth:20250607T233000
DTSTAMP:20260423T063813
CREATED:20250523T025758Z
LAST-MODIFIED:20250526T035757Z
UID:10000963-1749330000-1749339000@www.settlerstavern.com
SUMMARY:MARKSMAN LLOYD
DESCRIPTION:Marksman Lloyd is a rapper/spoken word poet from Albany/Kinjarling\, Western Australia. He made a name for himself as runner up in the Australian national Poetry Slam at the Sydney Opera House in his formative years and has since developed an eclectic catalogue of music rooted in a mix of intelligent hip hop and folk/soul music that his father put him onto as a boy. Marksman has toured Australia\, the US and south east Asia\, amassed millions of streams on Spotify\, won the WAM song of the year\, earned rotation on MTV Asia & Australia\, is a TEDx performing poet and has had songs synced in Netflix films and advertisements across the globe. He’s supported the likes of Action Bronson\, Macklemore\, MGK and Peking Duk.
URL:https://www.settlerstavern.com/event/marksman-lloyd-4/
LOCATION:Settlers Tavern\, 114 Bussell Hwy\, Margaret River\, WA\, 6285\, Australia
CATEGORIES:Hip Hop,Live Music,Live Music Australia
ATTACH;FMTTYPE=image/png:https://www.settlerstavern.com/wp-content/uploads/2025/05/Screenshot-2025-05-26-at-11.53.27 AM.png
GEO:-33.9498;115.0736
X-APPLE-STRUCTURED-LOCATION;VALUE=URI;X-ADDRESS=Settlers Tavern 114 Bussell Hwy Margaret River WA 6285 Australia;X-APPLE-RADIUS=500;X-TITLE=114 Bussell Hwy:geo:115.0736,-33.9498
END:VEVENT
END:VCALENDAR