BEGIN:VCALENDAR
VERSION:2.0
PRODID:-//Settlers Tavern - ECPv6.15.20//NONSGML v1.0//EN
CALSCALE:GREGORIAN
METHOD:PUBLISH
X-WR-CALNAME:Settlers Tavern
X-ORIGINAL-URL:https://www.settlerstavern.com
X-WR-CALDESC:Events for Settlers Tavern
REFRESH-INTERVAL;VALUE=DURATION:PT1H
X-Robots-Tag:noindex
X-PUBLISHED-TTL:PT1H
BEGIN:VTIMEZONE
TZID:Australia/Perth
BEGIN:STANDARD
TZOFFSETFROM:+0800
TZOFFSETTO:+0800
TZNAME:AWST
DTSTART:20240101T000000
END:STANDARD
END:VTIMEZONE
BEGIN:VEVENT
DTSTART;TZID=Australia/Perth:20250308T210000
DTEND;TZID=Australia/Perth:20250308T233000
DTSTAMP:20260423T192609
CREATED:20250219T024704Z
LAST-MODIFIED:20250219T024728Z
UID:10000936-1741467600-1741476600@www.settlerstavern.com
SUMMARY:PRETTY UGLYS
DESCRIPTION:PRETTY UGLYS are celebrating the release of their debut album ‘VICENARIAN’ with a run of shows around the country. \nMarch 8 they will set sails to SETTLERS TAVERN for a FREE SHOW\, joined by Perth favourites THE SPUNLOVES and local legends LINES OF CONVICTION.
URL:https://www.settlerstavern.com/event/pretty-uglys/
LOCATION:Settlers Tavern\, 114 Bussell Hwy\, Margaret River\, WA\, 6285\, Australia
CATEGORIES:Live Music,Live Music Australia
ATTACH;FMTTYPE=image/png:https://www.settlerstavern.com/wp-content/uploads/2025/02/Screenshot-2025-02-19-at-10.42.12 AM.png
GEO:-33.9498;115.0736
X-APPLE-STRUCTURED-LOCATION;VALUE=URI;X-ADDRESS=Settlers Tavern 114 Bussell Hwy Margaret River WA 6285 Australia;X-APPLE-RADIUS=500;X-TITLE=114 Bussell Hwy:geo:115.0736,-33.9498
END:VEVENT
END:VCALENDAR