BEGIN:VCALENDAR
VERSION:2.0
PRODID:-//Settlers Tavern - ECPv6.15.20//NONSGML v1.0//EN
CALSCALE:GREGORIAN
METHOD:PUBLISH
X-WR-CALNAME:Settlers Tavern
X-ORIGINAL-URL:https://www.settlerstavern.com
X-WR-CALDESC:Events for Settlers Tavern
REFRESH-INTERVAL;VALUE=DURATION:PT1H
X-Robots-Tag:noindex
X-PUBLISHED-TTL:PT1H
BEGIN:VTIMEZONE
TZID:Australia/Perth
BEGIN:STANDARD
TZOFFSETFROM:+0800
TZOFFSETTO:+0800
TZNAME:AWST
DTSTART:20230101T000000
END:STANDARD
END:VTIMEZONE
BEGIN:VEVENT
DTSTART;TZID=Australia/Perth:20241127T170000
DTEND;TZID=Australia/Perth:20241127T190000
DTSTAMP:20260424T001857
CREATED:20241102T002051Z
LAST-MODIFIED:20241102T002051Z
UID:10000886-1732726800-1732734000@www.settlerstavern.com
SUMMARY:MRPS ROCK CONCERT
DESCRIPTION:It’s back!!\nFeaturing bands from the talented Margaret River Primary School.\n\nOn the main stage with full production provided by Settlers Tavern.\nAll monies raised go straight to the school’s Music Room to purchase musical equipment and instruments.\nCome support the next generation of rockers!
URL:https://www.settlerstavern.com/event/mrps-rock-concert/
LOCATION:Settlers Tavern\, 114 Bussell Hwy\, Margaret River\, WA\, 6285\, Australia
CATEGORIES:Community,Fundraiser,Live Music
ATTACH;FMTTYPE=application/pdf:https://www.settlerstavern.com/wp-content/uploads/2024/11/MRPS-Rock-Nov-2024.pdf
GEO:-33.9498;115.0736
X-APPLE-STRUCTURED-LOCATION;VALUE=URI;X-ADDRESS=Settlers Tavern 114 Bussell Hwy Margaret River WA 6285 Australia;X-APPLE-RADIUS=500;X-TITLE=114 Bussell Hwy:geo:115.0736,-33.9498
END:VEVENT
END:VCALENDAR