BEGIN:VCALENDAR
VERSION:2.0
PRODID:-//Settlers Tavern - ECPv6.15.20//NONSGML v1.0//EN
CALSCALE:GREGORIAN
METHOD:PUBLISH
X-WR-CALNAME:Settlers Tavern
X-ORIGINAL-URL:https://www.settlerstavern.com
X-WR-CALDESC:Events for Settlers Tavern
REFRESH-INTERVAL;VALUE=DURATION:PT1H
X-Robots-Tag:noindex
X-PUBLISHED-TTL:PT1H
BEGIN:VTIMEZONE
TZID:Australia/Perth
BEGIN:STANDARD
TZOFFSETFROM:+0800
TZOFFSETTO:+0800
TZNAME:AWST
DTSTART:20230101T000000
END:STANDARD
END:VTIMEZONE
BEGIN:VEVENT
DTSTART;TZID=Australia/Perth:20240928T110000
DTEND;TZID=Australia/Perth:20240928T170000
DTSTAMP:20260424T050624
CREATED:20240816T021403Z
LAST-MODIFIED:20240816T071441Z
UID:10000851-1727521200-1727542800@www.settlerstavern.com
SUMMARY:AFL GRAND FINAL 2024
DESCRIPTION:AFL Grand Final 2024 at Settlers Tavern \nSeptember 28th\, 2024 Venue opens at 11 AM \n\n\n\nCatch the AFL Grand Final LIVE & LOUD at Settlers! We’re throwing open the whole venue for the big day\, so gather your mates and enjoy the game on the big screen with full sound in our Bistro. \n\n\n\n• Front Bar & Beer Garden: First in\, best served – no bookings required. \n\n\n\n• Bistro & Back Verandah: Bookings available\, but spots are filling up fast. Secure your seat to ensure the best view of the game! \n\n\n\n• Kitchen: Opening early from 11 AM\, so we’re ready to serve up your favourites as you settle in for the action. \n\n\n\nPlease note: Bistro bookings will be blocked out for the entire duration of the game. Any automated messages regarding a 90-minute booking limit can be disregarded for this event – enjoy the full experience with us!
URL:https://www.settlerstavern.com/event/afl-grand-final-2024/
LOCATION:Settlers Tavern\, 114 Bussell Hwy\, Margaret River\, WA\, 6285\, Australia
CATEGORIES:Sports
ATTACH;FMTTYPE=image/jpeg:https://www.settlerstavern.com/wp-content/uploads/2024/05/exterior-settlers.jpg
GEO:-33.9498;115.0736
X-APPLE-STRUCTURED-LOCATION;VALUE=URI;X-ADDRESS=Settlers Tavern 114 Bussell Hwy Margaret River WA 6285 Australia;X-APPLE-RADIUS=500;X-TITLE=114 Bussell Hwy:geo:115.0736,-33.9498
END:VEVENT
END:VCALENDAR