BEGIN:VCALENDAR
VERSION:2.0
PRODID:-//Settlers Tavern - ECPv6.15.20//NONSGML v1.0//EN
CALSCALE:GREGORIAN
METHOD:PUBLISH
X-WR-CALNAME:Settlers Tavern
X-ORIGINAL-URL:https://www.settlerstavern.com
X-WR-CALDESC:Events for Settlers Tavern
REFRESH-INTERVAL;VALUE=DURATION:PT1H
X-Robots-Tag:noindex
X-PUBLISHED-TTL:PT1H
BEGIN:VTIMEZONE
TZID:Australia/Perth
BEGIN:STANDARD
TZOFFSETFROM:+0800
TZOFFSETTO:+0800
TZNAME:AWST
DTSTART:20230101T000000
END:STANDARD
END:VTIMEZONE
BEGIN:VEVENT
DTSTART;TZID=Australia/Perth:20240717T180000
DTEND;TZID=Australia/Perth:20240717T203000
DTSTAMP:20260424T080432
CREATED:20240618T055822Z
LAST-MODIFIED:20240618T055822Z
UID:10000822-1721239200-1721248200@www.settlerstavern.com
SUMMARY:STATE OF ORIGIN - ROUND 3
DESCRIPTION:🏉 State of Origin Round 3 – Live and Loud at Settlers Tavern! 🏉 \nGet ready for an epic night of rugby league action! Join us as we broadcast the State of Origin Round 3 LIVE AND LOUD in the front bar. With a TV in every direction\, you won’t miss a second of the game. The big screen in the bistro will have the game on silent for diners. \n🕒 WEDNESDAY: 17 JULY\n🕒 Kick-Off: 6:05 PM\n🕒 Happy Hour: 5:30 PM – 6:30 PM \nCome in early to grab your spot and enjoy our happy hour specials before the game begins.
URL:https://www.settlerstavern.com/event/state-of-origin-round-3/
LOCATION:Settlers Tavern\, 114 Bussell Hwy\, Margaret River\, WA\, 6285\, Australia
CATEGORIES:Sports
ATTACH;FMTTYPE=image/jpeg:https://www.settlerstavern.com/wp-content/uploads/2024/06/Ampol_SOO.jpeg
GEO:-33.9498;115.0736
X-APPLE-STRUCTURED-LOCATION;VALUE=URI;X-ADDRESS=Settlers Tavern 114 Bussell Hwy Margaret River WA 6285 Australia;X-APPLE-RADIUS=500;X-TITLE=114 Bussell Hwy:geo:115.0736,-33.9498
END:VEVENT
END:VCALENDAR