BEGIN:VCALENDAR
VERSION:2.0
PRODID:-//Settlers Tavern - ECPv6.15.20//NONSGML v1.0//EN
CALSCALE:GREGORIAN
METHOD:PUBLISH
X-WR-CALNAME:Settlers Tavern
X-ORIGINAL-URL:https://www.settlerstavern.com
X-WR-CALDESC:Events for Settlers Tavern
REFRESH-INTERVAL;VALUE=DURATION:PT1H
X-Robots-Tag:noindex
X-PUBLISHED-TTL:PT1H
BEGIN:VTIMEZONE
TZID:Australia/Perth
BEGIN:STANDARD
TZOFFSETFROM:+0800
TZOFFSETTO:+0800
TZNAME:AWST
DTSTART:20230101T000000
END:STANDARD
END:VTIMEZONE
BEGIN:VEVENT
DTSTART;TZID=Australia/Perth:20240619T170000
DTEND;TZID=Australia/Perth:20240619T190000
DTSTAMP:20260424T095034
CREATED:20210511T202650Z
LAST-MODIFIED:20240608T043347Z
UID:10000611-1718816400-1718823600@www.settlerstavern.com
SUMMARY:SCHOOL OF ROCK - MRPS
DESCRIPTION:It’s back!!\nFeaturing bands from the talented Margaret River Primary School.\n\nOn the main stage with full production provided by Settlers Tavern.\nAll monies raised go straight to the school’s Music Room to purchase musical equipment and instruments.\nCome support the next generation of rockers!
URL:https://www.settlerstavern.com/event/rockfest-mrps/
LOCATION:Settlers Tavern\, 114 Bussell Hwy\, Margaret River\, WA\, 6285\, Australia
CATEGORIES:Community,Fundraiser,Live Music
ATTACH;FMTTYPE=image/png:https://www.settlerstavern.com/wp-content/uploads/2021/05/Screen-Shot-2024-06-08-at-12.19.48-pm.png
GEO:-33.9498;115.0736
X-APPLE-STRUCTURED-LOCATION;VALUE=URI;X-ADDRESS=Settlers Tavern 114 Bussell Hwy Margaret River WA 6285 Australia;X-APPLE-RADIUS=500;X-TITLE=114 Bussell Hwy:geo:115.0736,-33.9498
END:VEVENT
END:VCALENDAR