BEGIN:VCALENDAR
VERSION:2.0
PRODID:-//Settlers Tavern - ECPv6.15.20//NONSGML v1.0//EN
CALSCALE:GREGORIAN
METHOD:PUBLISH
X-WR-CALNAME:Settlers Tavern
X-ORIGINAL-URL:https://www.settlerstavern.com
X-WR-CALDESC:Events for Settlers Tavern
REFRESH-INTERVAL;VALUE=DURATION:PT1H
X-Robots-Tag:noindex
X-PUBLISHED-TTL:PT1H
BEGIN:VTIMEZONE
TZID:Australia/Perth
BEGIN:STANDARD
TZOFFSETFROM:+0800
TZOFFSETTO:+0800
TZNAME:AWST
DTSTART:20230101T000000
END:STANDARD
END:VTIMEZONE
BEGIN:VEVENT
DTSTART;VALUE=DATE:20240411
DTEND;VALUE=DATE:20240423
DTSTAMP:20260424T130828
CREATED:20240326T181038Z
LAST-MODIFIED:20240530T052528Z
UID:10000501-1712800800-1713751199@www.settlerstavern.com
SUMMARY:WA Margaret River Pro - STREAMING LIVE
DESCRIPTION:‍♂️ Can’t make it to Surfers Point? Don’t miss a heat! Streaming live here at Settlers Tavern. ‍♂️ \nWhile the Western Australia Margaret River Pro unfolds at Surfers Point\, you can still catch all the thrilling action right here at Settlers Tavern! The event is one of only two Australian stops on the prestigious World Surf League (WSL) World Championship Tour (CT)\, attracting the world’s top professional surfers to Margaret River. \nFrom April 11th\, the 2024 tour returns for 10 days of adrenaline-pumping competition\, serving as the mid-season decider. Expect nothing less than the world’s best surfers giving their all to secure their spot in the second half of the tour. \nAt Surfers Point\, spectators can enjoy live and free access to the bulk of the competition held at Main Break and The Box. The event hub offers a festival atmosphere\, complete with big screens showing replays\, expert commentary\, food trucks\, and merchandise stands. Plus\, young surf enthusiasts have the chance to meet their surfing idols\, who graciously take time after each heat to chat with fans\, sign autographs\, and snap selfies. \nDon’t miss out on the special events happening alongside the Pro\, including Rusty’s video launch\, an afterparty with Boston Switch\, and other live music performances. Be sure to check out our gig guide for more details!
URL:https://www.settlerstavern.com/event/wa-margaret-river-pro-streaming-live/
LOCATION:Settlers Tavern\, 114 Bussell Hwy\, Margaret River\, WA\, 6285\, Australia
CATEGORIES:Featured,Sports
ATTACH;FMTTYPE=image/png:https://www.settlerstavern.com/wp-content/uploads/2024/04/Screen-Shot-2024-03-27-at-10.04.40-am.png
GEO:-33.9498;115.0736
X-APPLE-STRUCTURED-LOCATION;VALUE=URI;X-ADDRESS=Settlers Tavern 114 Bussell Hwy Margaret River WA 6285 Australia;X-APPLE-RADIUS=500;X-TITLE=114 Bussell Hwy:geo:115.0736,-33.9498
END:VEVENT
END:VCALENDAR